BEGIN:VCALENDAR
VERSION:2.0
PRODID:-//Sabre//Sabre VObject 4.5.8//EN
CALSCALE:GREGORIAN
BEGIN:VEVENT
UID:sabre-vobject-6b47a483-c174-457c-853c-71aef19046f4
DTSTAMP:20260424T060458Z
SUMMARY:Mystik und Musik
DESCRIPTION:
LOCATION:Ref. Kirche\, Dorf\, 9053 Teufen
DTSTART;TZID=Europe/Zurich:20260424T190000
DTEND;TZID=Europe/Zurich:20260424T190000
ORGANIZER:Lesegesellschaft Teufen
END:VEVENT
END:VCALENDAR
