BEGIN:VCALENDAR
VERSION:2.0
PRODID:-//Sabre//Sabre VObject 4.5.8//EN
CALSCALE:GREGORIAN
BEGIN:VEVENT
UID:sabre-vobject-66c674fe-90eb-4a91-b33a-957fda4d95d2
DTSTAMP:20260419T214329Z
SUMMARY:Loechli Klaenge
DESCRIPTION:Appenzeller Musik mit Hackbrett\, Handorgel\, Klavier\, Bass
LOCATION:Hotel Hof Weissbad\, Im Park 1\, 9057 Weissbad
DTSTART;TZID=Europe/Zurich:20260422T200000
DTEND;TZID=Europe/Zurich:20260422T200000
ORGANIZER:
END:VEVENT
END:VCALENDAR
