BEGIN:VCALENDAR
VERSION:2.0
PRODID:-//Sabre//Sabre VObject 4.5.8//EN
CALSCALE:GREGORIAN
BEGIN:VEVENT
UID:sabre-vobject-66c596de-e808-4373-995d-ef8acdfcd249
DTSTAMP:20260419T160614Z
SUMMARY:Café TrotzDem Sarganserland
DESCRIPTION:Treffpunkt für Menschen mit Demenz und ihre Angehörigen.
LOCATION:Restaurant Kiesfang\, Aeulistrasse 8\, 7324 Vilters
DTSTART;TZID=Europe/Zurich:20260421T143000
DTEND;TZID=Europe/Zurich:20260421T143000
ORGANIZER:
END:VEVENT
END:VCALENDAR
