BEGIN:VCALENDAR
VERSION:2.0
PRODID:-//Sabre//Sabre VObject 4.5.8//EN
CALSCALE:GREGORIAN
BEGIN:VEVENT
UID:sabre-vobject-ae3de84f-01eb-4058-990b-d8190492ab85
DTSTAMP:20260422T163931Z
SUMMARY:Earth Day
DESCRIPTION:Ein gemeinsamer Blick in die Sterne.\nJeden Mittwochabend um 19
  Uhr öffnet die Sternwarte der Öffentlichkeit ihre Türen. Gemeinsam bet
 rachten wir\, bei guter Sicht\, den aktuellen Sternenhimmel\, erspähen Ga
 laxien und Sternbilder. \nAuch für bedeckten Himmel oder Regen sind wir 
 eingerichtet:\nIn der Planetariums-Kuppel kann durch modernste Technik der
  aktuelle Sternenhimmel auf eine 360°-Leinwand projiziert werden.\nDie Ku
 ppel der Sternwarte ist im Winter nicht beheizt - warme Bekleidung und Sch
 uhe empfohlen. \nBei grossem Besucheraufkommen kann es zu Wartezeiten kom
 men. Danke für Ihr Verständnis. 
LOCATION:Bodensee Planetarium und Sternwarte\, Breitenrainstrasse 21\, 8280
  Kreuzlingen
DTSTART;TZID=Europe/Zurich:20260422T190000
DTEND;TZID=Europe/Zurich:20260422T190000
ORGANIZER:Bodensee Planetarium und Sternwarte
END:VEVENT
END:VCALENDAR
