BEGIN:VCALENDAR
VERSION:2.0
PRODID:-//Sabre//Sabre VObject 4.5.8//EN
CALSCALE:GREGORIAN
BEGIN:VEVENT
UID:sabre-vobject-57f18496-7142-4c04-8bbf-377c0e607e70
DTSTAMP:20260420T021303Z
SUMMARY:Volker Kutscher – Olympia
DESCRIPTION:«Die TV-Serie «Babylon Berlin» mag gutes Fernsehen sein. Vol
 ker Kutschers Romane aber sind grosses Kino.» – taz\nMit seinem histori
 schen Kriminalroman «Olympia» entführt Volker Kutscher uns in das Berli
 n der 1930er-Jahre – genau in die Zeit der Olympischen Spiele 1936. Wäh
 rend die Nationalsozialisten mit einer inszenierten\, freundlichen Fassade
  ihre Macht demonstrieren\, offenbart sich hinter den Kulissen eine gefäh
 rliche und dunkle Wahrheit\, die Kommissar Gereon Rath aufdeckt. Sein acht
 er Fall verschlägt Rath in das olympische Dorf\, wo die Sportveranstaltun
 g nicht nur als Bühne für sportliche Höchstleistungen dient\, sondern a
 uch als politisches Propagandainstrument missbraucht wird. Doch bei seinen
  verdeckten Ermittlungen wird immer klarer\, welche gefährliche Scharade 
 das Regime hier spielt.\nVolker Kutscher gelingt es meisterhaft\, das Berl
 in der 1930er-Jahre lebendig werden zu lassen. Seine Krimireihe dient nich
 t nur als Vorlage für die erfolgreiche TV-Serie «Babylon Berlin»\, sond
 ern überzeugt auch durch atmosphärische und packende Erzählkunst.\nDas 
 Publikum kann sich von Gereon Rath durch einen faszinierenden Fall führen
  lassen und erleben\, wie Sport\, Politik und persönliche Schicksale in e
 iner turbulenten Zeit miteinander verwoben sind.\nTipp: Vor der Lesung emp
 fehlen wir Ihnen einen Besuch der aktuellen Kunstausstellung «Sport und F
 reizeit in Werken der Sammlung Würth». Die Ausstellungen im Forum Würth
  Rorschach sowie das KunstCafé bleiben bis 19.00 Uhr geöffnet.
LOCATION:Forum Würth Rorschach\, Churerstrasse 10\, 9400 Rorschach
DTSTART;TZID=Europe/Zurich:20260422T190000
DTEND;TZID=Europe/Zurich:20260422T190000
ORGANIZER:Forum Würth Rorschach
END:VEVENT
END:VCALENDAR
