BEGIN:VCALENDAR
VERSION:2.0
PRODID:-//Sabre//Sabre VObject 4.5.8//EN
CALSCALE:GREGORIAN
BEGIN:VEVENT
UID:sabre-vobject-b7b81eff-75eb-45ed-8b91-e05688465055
DTSTAMP:20260420T005914Z
SUMMARY:Hanspeter Münch
DESCRIPTION:Licht\, Raum und Farbe – das sind Themen\, denen Hanspeter M
 ünch als Maler seit mehr als fünfzig Jahren nachspürt. Seine Gemälde s
 ind farbgewaltige Ereignisse\, die ihresgleichen suchen. Seine abstrakten 
 Visionen\, die dennoch vielfältige\, vor allem naturhafte Assoziationen e
 rlebbar machen\, sind ebenso rauschhaft wie konstruiert.\n \nDurch die Ü
 berlagerung unzähliger Pigmentschichten entsteht eine beeindruckende Tief
 e\, die die Betrachtenden in ihren Bann zieht.\n \nSein Ansatz\, sich jen
 seits realistischer Darstellungen von Natur und Licht einer autonomen Form
  von Raum und Körperlichkeit zu nähern\, schafft abstrakte Farbräume vo
 n aussergewöhnlicher Intensität und einer fast barock anmutenden Raumtie
 fe.\n \nDie gestische Pinselschrift vermittelt zudem in höchstem Masse e
 ine bewegte Energie\, welche die Kompositionen durchströmt.\n \nAnlässl
 ich seines 85. Geburtstags würdigt das Forum Würth Rorschach den Künstl
 er mit einer Foyer‒Ausstellung. Gezeigt werden Werke aus der Sammlung W
 ürth sowie eine Auswahl seiner jüngsten Arbeiten\, die direkt aus dem At
 elier des Künstlers stammen.
LOCATION:Forum Würth Rorschach\, Churerstrasse 10\, 9400 Rorschach
DTSTART;TZID=Europe/Zurich:20260426T100000
DTEND;TZID=Europe/Zurich:20260426T100000
ORGANIZER:Forum Würth Rorschach
END:VEVENT
END:VCALENDAR
