BEGIN:VCALENDAR
VERSION:2.0
PRODID:-//Sabre//Sabre VObject 4.5.8//EN
CALSCALE:GREGORIAN
BEGIN:VEVENT
UID:sabre-vobject-34ffdde3-449d-44df-bdc5-7e574bf9fe46
DTSTAMP:20260420T190715Z
SUMMARY:Spiele im Bistro
DESCRIPTION:Ein garantiert vergnüglicher Abend in verschiedenen Tischrunde
 n. Für jedes Spielniveau und mit kurzen Erklärungen. Der Einstieg ist je
 derzeit möglich.
LOCATION:Alte Kaserne Kulturzentrum\, Technikumstrasse 8\, 8403 Winterthur
DTSTART;TZID=Europe/Zurich:20260421T190000
DTEND;TZID=Europe/Zurich:20260421T190000
ORGANIZER:
END:VEVENT
END:VCALENDAR
