BEGIN:VCALENDAR
VERSION:2.0
PRODID:-//Sabre//Sabre VObject 4.5.8//EN
CALSCALE:GREGORIAN
BEGIN:VEVENT
UID:sabre-vobject-70b0a975-ec5d-4505-b18e-ac4666f19296
DTSTAMP:20260422T032338Z
SUMMARY:Forró: brasilianischer Paartanz
DESCRIPTION:Brasilianische Lebensfreude in Form von Musik &amp\; Tanz: Die 
 Forró-Gruppe in Konstanz trifft sich zum Tanzen in der Konzertmuschel! In
 teressierte können an einer der kostenlosen Schnupperstunden teilnehmen! 
 Ein*e Tanzpartner*in ist nicht nötig!\\n\\nAn den Sonntagen: 12–22 h (1
 7:30h Schnupperstunde)\\nAn den Mittwochen: 18–22 h (20:00h Schnupperstu
 nde)
LOCATION:Konzertmuschel im Stadtgarten\, Stadtgarten 1\, Konstanz\, 78462 K
 onstanz
DTSTART;TZID=Europe/Zurich:20260802T120000
DTEND;TZID=Europe/Zurich:20260802T120000
ORGANIZER:
END:VEVENT
END:VCALENDAR
