BEGIN:VCALENDAR
VERSION:2.0
PRODID:-//Sabre//Sabre VObject 4.5.8//EN
CALSCALE:GREGORIAN
BEGIN:VEVENT
UID:sabre-vobject-86b79688-39a5-4670-95d6-bd5c40fb1231
DTSTAMP:20260423T051619Z
SUMMARY:2. (B)rockiger Kleiderabend
DESCRIPTION:Ausgelassen und exklusiv in der Kleiderabteilung vom Brocki Gai
 s stöbern und einkaufen\, so dass die Fetzen fliegen. Dabei erhältst du 
 Stilberatung von Karin Ramsauer von Stilwerk. Bitte nimm ein oder zwei Kle
 idungsstücke mit\, bei denen du Mühe hast\, sie zu kombinieren. Übrigen
 s: Der Anlass ist auch für Kleidermuffel und Männer geeignet. Cüpli und
  Knabbereien inbegriffen.
LOCATION:Brocki Gais\, Grüt 12\, 9056 Gais
DTSTART;TZID=Europe/Zurich:20260423T183000
DTEND;TZID=Europe/Zurich:20260423T220000
ORGANIZER:Brocki Gais
END:VEVENT
END:VCALENDAR
