BEGIN:VCALENDAR
VERSION:2.0
PRODID:-//Sabre//Sabre VObject 4.5.8//EN
CALSCALE:GREGORIAN
BEGIN:VEVENT
UID:sabre-vobject-859fdeed-5274-4d73-8ab5-933a4ca339ea
DTSTAMP:20260424T060351Z
SUMMARY:Versuch über das Warten
DESCRIPTION:Ein Versuch über das Warten.\nIst Warten Zeitverschwendung\, L
 ebenskunst oder Zumutung?\nFür eine Versuchsanordnung im Labor auf Zeit w
 erden Freiwillige\, Probanden\, Laborratten und Versuchskaninchen gesucht\
 , die sich dem Phänomen des Wartens aussetzen und hingeben.\nDie Studie d
 ient zu künstlerischen und wissenschaftlichen Zwecken. Alle Daten und Erf
 ahrungswerte werden anonymisiert und vertraulich behandelt\, um später in
  ein neues Performance-Projekt eingebunden zu werden.\nAblauf der Studie:\
 \nDie Teilnahme umfasst unübersichtliche Beobachtungsaufgaben\, multiplex
 e Experimente\, verzwickte fragebögen\, Instant-Tests und Impuls-Aktionen
 . Es braucht keine besonderen Vorkenntnisse.
LOCATION:Kulturzentrum Kult-X\, Hafenstrasse 8\, 8280 Kreuzlingen
DTSTART;TZID=Europe/Zurich:20260424T190000
DTEND;TZID=Europe/Zurich:20260424T190000
ORGANIZER:Kulturfundament GmbH
END:VEVENT
END:VCALENDAR
