BEGIN:VCALENDAR
VERSION:2.0
PRODID:-//Sabre//Sabre VObject 4.5.8//EN
CALSCALE:GREGORIAN
BEGIN:VEVENT
UID:sabre-vobject-7262a606-9c3a-46c4-83f9-72795bbdc4de
DTSTAMP:20260419T223606Z
SUMMARY:Konzert am Mittag
DESCRIPTION:Die musikalische Mittagspause im Museumscafé. Eintritt: freiwi
 llige SpendeAnmeldung für das Mittagsmenü: T +43 (0)5574 46050-550
LOCATION:Vorarlberg Museum\, Kornmarktplatz 1\, 6900 Bregenz
DTSTART;TZID=Europe/Zurich:20260430T121500
DTEND;TZID=Europe/Zurich:20260430T121500
ORGANIZER:
END:VEVENT
END:VCALENDAR
