BEGIN:VCALENDAR
VERSION:2.0
PRODID:-//Sabre//Sabre VObject 4.5.8//EN
CALSCALE:GREGORIAN
BEGIN:VEVENT
UID:sabre-vobject-0f8a2aa6-c421-4927-bd6e-87fc0e0960fb
DTSTAMP:20260421T011639Z
SUMMARY:Daniel Luis: Hyperaktiv
DESCRIPTION:DANIEL LUIS geht bei Social Media durch die Decke. Sein Spezial
 gebiet ist die spontane Interaktion &amp\; das Roasting des Publikums. Set
 z Dich lieber nicht in die 1.Reihe! Oder traust Du Dich doch?\\n\\nSein St
 and Up Comedy Solo Programm HYPERAKTIV hat es in sich! Sehr aufgedreht &am
 p\; aufgeregt redet er über Stereotypen\, das verrückte Leben in Berlin 
 &amp\; merkwürdige Alltagsbeobachtungen.\nDaniel Luis ist geboren und auf
 gewachsen in Berlin Wedding\, als Sohn ausländischer Einwanderer. Er war 
 schon immer der Klassenentertainer. Jetzt macht er es über große Umwege 
 zum Beruf. Vom Gangmitglied zum BWL Diplom\, vom Bagpacker (85 Länder) zu
 m Vegetarier\, vom Model zum Grundschullehrer\, vom selbstständigen zur L
 angzeitarbeitslosigkeit. Und jetzt zum Comedian. Was für andere eine Lüc
 ke im Lebenslauf ist\, ist für Daniel Luis der Stoff aus dem er Comedy ma
 cht.
LOCATION:Schlösslekeller\, Schwefelstrasse 14\, 9490 Vaduz
DTSTART;TZID=Europe/Zurich:20260421T200000
DTEND;TZID=Europe/Zurich:20260421T200000
ORGANIZER:Kleintheater Schlösslekeller
END:VEVENT
END:VCALENDAR
