BEGIN:VCALENDAR
VERSION:2.0
PRODID:-//Sabre//Sabre VObject 4.5.8//EN
CALSCALE:GREGORIAN
BEGIN:VEVENT
UID:sabre-vobject-5adb9c11-0da1-4f69-a6aa-d67589f064be
DTSTAMP:20260424T061200Z
SUMMARY:Bierdegustation
DESCRIPTION:Bier degustieren und passende Geschichten dazu von der Tägesch
 er „Mikro Brauerei“ erfahren. Mit den entsprechenden Gaumenfreuden kan
 n jedes Bier seinen vollen Geschmack entwickeln. Ein gemütlicher Abend an
  dem neben der Freude am Biertrinken\, auch das Brauhandwerk zur Geltung k
 ommt.
LOCATION:Eventküche\, Unterdorfstrasse 58\, 9107 Urnäsch
DTSTART;TZID=Europe/Zurich:20260424T190000
DTEND;TZID=Europe/Zurich:20260424T220000
ORGANIZER:Kulturverein Urnäsch
END:VEVENT
END:VCALENDAR
