BEGIN:VCALENDAR
VERSION:2.0
PRODID:-//Sabre//Sabre VObject 4.5.8//EN
CALSCALE:GREGORIAN
BEGIN:VEVENT
UID:sabre-vobject-a27ba113-dbdb-4ae2-8d14-20f204618b89
DTSTAMP:20260421T143957Z
SUMMARY:Politfilm: Ein Viertel in unserer Stadt
DESCRIPTION:Von der Nazi-Diktatur zum alternativen Wohnprojekt\\nWo einst N
 ationalsozialisten im Gleichschritt marschierten\, existiert heute ein alt
 ernatives\, selbstverwaltetes Wohn- und Arbeitsmodell. Gegründet wird das
  Projekt mit der Vision\, eine bessere Form von Zivilgesellschaft zu entwi
 ckeln – selbstbestimmtes Leben\, gemeinschaftliches Arbeiten\, soziales 
 und kulturelles Engagement liegen als Leitvorstellung in der Luft.\nDie Ka
 serne wird 1936 als militärische Einrichtung gebaut. 1945 verliert Deutsc
 hland den Krieg gegen die Alliierten\, die Kaserne wird von den französis
 chen Besatzern übernommen. Nach deren Abzug im Jahre 1978 stehen die Geb
 äude leer. 1983 gelingt es dem Verein Evangelische Studentengemeinde e.V.
  erstmalig in Deutschland\, eine ehemalige Kaserne in Selbstverwaltung ziv
 il nutzen zu können.\nDer Film zeigt die Entwicklung des Areals\, den Ein
 fluss des besetzten Fischmarktes in den 1970/80ern und die immensen Hürde
 n seitens der Behörden. Er gibt einen Einblick in die kulturellen und soz
 ialen Institutionen\, sowie das Leben der Menschen vor Ort. „Ein Viertel
  in unserer Stadt“ beschäftigt sich mit der Frage\, was von den Visione
 n übrig ist und welche Zukunft das Projekt hat.
LOCATION:Vaudeville\, Von Behring Strasse 6\, 88131 Lindau
DTSTART;TZID=Europe/Zurich:20260421T200000
DTEND;TZID=Europe/Zurich:20260421T200000
ORGANIZER:Club Vaudeville e.V.
END:VEVENT
END:VCALENDAR
