BEGIN:VCALENDAR
VERSION:2.0
PRODID:-//Sabre//Sabre VObject 4.5.8//EN
CALSCALE:GREGORIAN
BEGIN:VEVENT
UID:sabre-vobject-e399e540-d47b-4096-b95e-bf091de3e300
DTSTAMP:20260420T190936Z
SUMMARY:Spidergawd "European Album Tour 2026" + special guest
DESCRIPTION:Die Trondheimer Heavy-Rock Band\, 2013 als Nebenprojekt der bei
 den Motorpsycho Musiker Bent Sæther (bass) und Kenneth Kapstadt (drums) g
 egründet\, hat sich mit ihrem brachialen Sound\, der dennoch immer groovt
 \, längst als eigenständiger Act etabliert\, dessen Alben von der weltwe
 iten Rockkritik regelmäßig gefeiert werden. Im April kommenden Jahres be
 ehrt uns die Band erneut und bringt dann ihr neues Album mit!Special Guest
 : Håndgemeng\\nHåndgemeng is a tough-as-nails heavy metal band from the 
 dark corners of Oslo\, Norway. Presented by: Visions\, Classic Rock\, Meta
 ltix
LOCATION:Gaswerk\, Untere Schöntalstrasse 19\, 8406 Winterthur
DTSTART;TZID=Europe/Zurich:20260421T190000
DTEND;TZID=Europe/Zurich:20260421T190000
ORGANIZER:
END:VEVENT
END:VCALENDAR
