BEGIN:VCALENDAR
VERSION:2.0
PRODID:-//Sabre//Sabre VObject 4.5.8//EN
CALSCALE:GREGORIAN
BEGIN:VEVENT
UID:sabre-vobject-5ae98fbb-921b-4ab0-8f70-da779ee80929
DTSTAMP:20260421T073948Z
SUMMARY:Krämermarkt
DESCRIPTION:Umgeben von einer imposanten Kulisse auf dem Landsgemeindeplatz
  Trogen findet der beliebte Krämermarkt statt. Hier gibt es die gewohnten
  Allerweltswaren und noch mehr: eine sympathische Mischung aus Kunsthandwe
 rk\, Verpflegung\, Darbietungen und anderen Guten Waren. Am Markttag wird 
 der soziale Austausch sowie das Zusammensein von Jung und Alt aus nah und 
 fern aktiv gelebt und gefeiert und zelebriert.
LOCATION:Landsgemeindeplatz\, Landsgemeindeplatz 1\, 9043 Trogen
DTSTART;TZID=Europe/Zurich:20260829T090000
DTEND;TZID=Europe/Zurich:20260829T150000
ORGANIZER:MFT Marktfrauen Trogen
END:VEVENT
END:VCALENDAR
