BEGIN:VCALENDAR
VERSION:2.0
PRODID:-//Sabre//Sabre VObject 4.5.8//EN
CALSCALE:GREGORIAN
BEGIN:VEVENT
UID:sabre-vobject-bebaa8d1-0c6b-403d-8545-c6c19d2c6e9e
DTSTAMP:20260421T010928Z
SUMMARY:DJ Ahmet
DESCRIPTION:Beats vom Traktor: Wenn der 15-Jährige Schafhirte Ahmet durch 
 die nordmazedonische Hügellandschaft tuckert\, wummern basslastige Songs 
 aus seiner selbstgebastelten Soundanlage. Die elektronischen Klänge verhe
 ißen einen Ausweg aus der konservativen Dorfgemeinschaft. Leider ist die 
 nächste Disco unerreichbar weit entfernt\, die örtliche Download-Geschwi
 ndigkeit katastrophal und sein strenger Vater versucht alles\, um ihm die 
 Liebe zur Musik auszutreiben.\nEinzig sein stummer Bruder Naim teilt seine
  Begeisterung – bis die wunderschöne Aya auf Heimaturlaub aus dem ferne
 n Deutschland bei den Nachbarn ein zieht. Die Neue hat nicht nur einen aus
 gezeichneten Musikgeschmack\, unbändigen Freiheitswillen und ein Faible f
 ür Tiktok-Tänze\, sondern auch ein Handy mit unbegrenztem Datenvolumen i
 m Gepäck. Bei heimlichen Raves auf dem Acker kommen sich die beiden im Ta
 kt der Musik unweigerlich näher – dumm nur\, dass ihre Hand bereits ein
 em Anderen versprochen ist. Um die anstehende Vermählung zu verhindern\, 
 startet Ahmet mit Aya einen verzweifelten Versuch\, sich aus den Tradition
 en zu befreien.\n 
LOCATION:Spielboden\, Färbergasse 15\, 6850 Dornbirn
DTSTART;TZID=Europe/Zurich:20260421T193000
DTEND;TZID=Europe/Zurich:20260421T193000
ORGANIZER:Spielboden
END:VEVENT
END:VCALENDAR
