BEGIN:VCALENDAR
VERSION:2.0
PRODID:-//Sabre//Sabre VObject 4.5.8//EN
CALSCALE:GREGORIAN
BEGIN:VEVENT
UID:sabre-vobject-6579eff4-d086-44c0-9d34-e8840b054e38
DTSTAMP:20260421T143407Z
SUMMARY:Kendo - Der Weg des Schwertes
DESCRIPTION:Der Kendo Club St. Gallen stellt sich und die Kampfkunst Kendo 
 vor. \\n\\nIm Anschluss findet ein 8-wöchiger Anfänger:innenkurs statt.
LOCATION:Turnhalle Krontal St. Gallen\, Lindenstrasse 96\, 9000 St. Gallen
DTSTART;TZID=Europe/Zurich:20261022T201500
DTEND;TZID=Europe/Zurich:20261022T214600
ORGANIZER:Kendo Club St. Gallen
END:VEVENT
END:VCALENDAR
