BEGIN:VCALENDAR
VERSION:2.0
PRODID:-//Sabre//Sabre VObject 4.5.8//EN
CALSCALE:GREGORIAN
BEGIN:VEVENT
UID:sabre-vobject-11d4c88b-af66-49be-a542-49f8a2a0995d
DTSTAMP:20260421T143148Z
SUMMARY:Kendo - Der Weg des Schwertes
DESCRIPTION:Der Kendo Club St. Gallen stellt sich und die Kampfkunst Kendo 
 vor. \\n\\nIm Anschluss findet ein 8-wöchiger Anfänger:innenkurs statt.
LOCATION:Turnhalle Krontal St. Gallen\, Lindenstrasse 96\, 9000 St. Gallen
DTSTART;TZID=Europe/Zurich:20260421T201500
DTEND;TZID=Europe/Zurich:20260421T214500
ORGANIZER:Kendo Club St. Gallen
END:VEVENT
END:VCALENDAR
