BEGIN:VCALENDAR
VERSION:2.0
PRODID:-//Sabre//Sabre VObject 4.5.8//EN
CALSCALE:GREGORIAN
BEGIN:VEVENT
UID:sabre-vobject-8f8bb76a-781d-4fe2-b492-9a62fe557e94
DTSTAMP:20260421T150619Z
SUMMARY:Improtheater anundpfirsich – Beziehungsstatus: improvisiert
DESCRIPTION:Die Impro-Show zum Thema Beziehungen &amp\; Liebe\nSeien wir ma
 l ehrlich – in der heutigen Zeit Liebesbeziehungen zu leben\, ist einfac
 h kompliziert und konfrontiert uns oft mit herausfordernden Lebensfragen.\
 \nIn dieser frischgebackenen Impro-Show stellt sich das Impro-Ensemble an
 undpfirsich dieser Thematik und experimentiert spielerisch mit allen mög
 lichen Formen von zwischenmenschlichen Liebesgeschichten.\nDabei werden si
 e charmant und professionell von der Psychologin und Paarberaterin Annett
 e Brockhaus gecoacht\, die ihnen Tipps und Tricks verrät und die Fragen 
 des Publikums rund um das Thema beantwortet.\nWas bei dieser neuartigen Li
 aison herauskommt\, ist höchst unterhaltsames\, überraschendes und augen
 öffnendes Improtheater\, das berührt und zu neuen Perspektiven (ver-)fü
 hrt.\\nEin Event in Kooperation mit Impro for Life und Annette Brockhau
 s.
LOCATION:Casinotheater\, Stadthausstrasse 119\, 8400 Winterthur
DTSTART;TZID=Europe/Zurich:20260421T200000
DTEND;TZID=Europe/Zurich:20260421T221000
ORGANIZER:
END:VEVENT
END:VCALENDAR
