BEGIN:VCALENDAR
VERSION:2.0
PRODID:-//Sabre//Sabre VObject 4.5.8//EN
CALSCALE:GREGORIAN
BEGIN:VEVENT
UID:sabre-vobject-22736241-d977-4420-b641-418c405e6191
DTSTAMP:20260423T233304Z
SUMMARY:Zurückgezogen zugewandt. Klosterfrauen heute
DESCRIPTION:In dieser Woche eröffnen Stiftsbibliothek und Kulturmuseum ihr
 e Ausstellungen zum Jubiläumsjahr 1100 Jahre Wiborada\, die als erste Fra
 u heiliggesprochen wurde. Die Stiftsbibliothek widmet sich Frauen aus dem 
 Frühmittelalter\, das Kulturmuseum knüpft an das Leben von Wiborada an u
 nd führt in die Gegenwart zu Klosterfrauen von heute. Sie erzählen in Fi
 lminterviews von ihrem Leben\, dem Klosteralltag und den Veränderungen de
 r letzten Jahre. Die Ausstellung zeigt zudem als kostbare Leihgaben die Wi
 borada-Gegenstände aus der Benediktinerinnenabtei St.Gallenberg\, Glattbu
 rg\, und Entdeckungen aus der Museumssammlung\, die aus verschiedenen Frau
 enklöstern der Ostschweiz stammen.\\n\n\\n\nVernissage: «zurückgezogen 
 zugewandt. Klosterfrauen heute»\, Sonderausstellung im Studiosaal\, ansch
 liessend Apéro
LOCATION:Kulturmuseum St.Gallen\, Museumstrasse 50\, 9000 St. Gallen
DTSTART;TZID=Europe/Zurich:20260424T183000
DTEND;TZID=Europe/Zurich:20260424T183000
ORGANIZER:Kulturmuseum St. Gallen
END:VEVENT
END:VCALENDAR
