BEGIN:VCALENDAR
VERSION:2.0
PRODID:-//Sabre//Sabre VObject 4.5.8//EN
CALSCALE:GREGORIAN
BEGIN:VEVENT
UID:sabre-vobject-0533fe86-202b-41d3-876b-8bccaa2f3cd1
DTSTAMP:20260425T004937Z
SUMMARY:Mentalreise
DESCRIPTION:
LOCATION:JAM 29 Aerobic Factory\, Moosweg 11\, 9470 Buchs SG
DTSTART;TZID=Europe/Zurich:20260425T101500
DTEND;TZID=Europe/Zurich:20260425T111500
ORGANIZER:JAM 29 Aerobic Factory
END:VEVENT
END:VCALENDAR
