BEGIN:VCALENDAR
VERSION:2.0
PRODID:-//Sabre//Sabre VObject 4.5.8//EN
CALSCALE:GREGORIAN
BEGIN:VEVENT
UID:sabre-vobject-86e6495b-3ed2-4423-809c-63b749e6774f
DTSTAMP:20260422T163419Z
SUMMARY:Europa im Kontext von Sklaverei & früher Globalisierung
DESCRIPTION:Wieso ist die Schweiz so reich geworden? Und wie hängt der wir
 tschaftliche Aufstieg Europas mit dem Kolonialismus zusammen? Diese Fragen
  werden in der historischen Forschung seit Jahrzehnten kontrovers diskutie
 rt. Der Vortrag beleuchtet die Rolle von Sklaverei\, kolonialer Expansion 
 und globalen Handelsbeziehungen für die Industrialisierung und die Heraus
 bildung der kapitalistischen Wirtschaft. Dabei wird unterschieden zwischen
  dem Atlantikhandel einerseits\, der wesentlich durch Plantagenwirtschaft 
 und Sklavenarbeit geprägt war\, und dem Handel mit Asien andererseits\, d
 urch den indische und chinesische Luxusgüter nach Europa kamen. Die europ
 äischen Fabrikanten versuchten\, diese Produkte zu imitieren\, was einen 
 wesentlichen Anreiz für die industrielle Revolution darstellte.\\n\n\\n\n
 Vortrag: Zucker und Baumwolle: Europa im Kontext von Sklaverei und früher
  Globalisierung\, Vortrag im Rahmen der Ausstellung «Die Welt ins Museum.
  Vom Handeln\, Sammeln und Entdecken»\, mit Prof. Dr. Christof Dejung\, U
 niversität Bern.
LOCATION:Kulturmuseum St.Gallen\, Museumstrasse 50\, 9000 St. Gallen
DTSTART;TZID=Europe/Zurich:20260422T183000
DTEND;TZID=Europe/Zurich:20260422T183000
ORGANIZER:Kulturmuseum St. Gallen
END:VEVENT
END:VCALENDAR
