BEGIN:VCALENDAR
VERSION:2.0
PRODID:-//Sabre//Sabre VObject 4.5.8//EN
CALSCALE:GREGORIAN
BEGIN:VEVENT
UID:sabre-vobject-2d5478ad-b303-408d-a36a-82309a63b568
DTSTAMP:20260422T164057Z
SUMMARY:Hanspeter Bäni: Der Reporter – Geschichten jenseits der Dreharbe
 iten
DESCRIPTION:Seine Reportagen sorgten für Schlagzeilen – etwa die kontrov
 erse Geschichte des jugendlichen Straftäters «Carlos». Er erzählte das
  Schicksal der «Weissen Königin» in Afrika\, begleitete einen Betrüger
  von der Haft bis zu dessen Tod und filmte über 20 Jahre das Leben einer 
 vom Unglück gezeichneten Bergbauernfamilie.\\n\n\\n\nIn «Der Reporter 
 – Geschichten jenseits der Dreharbeiten» öffnet Bäni den Blick hinter
  die Kulissen: riskante Drehs\, überraschende Wendungen und Begegnungen\,
  die ihn berührten oder an Grenzen brachten. Er war vor Ort beim Sturz Mi
 loševićs\, dokumentierte den argentinischen Staatsbankrott\, filmte wäh
 rend der Unruhen in Thailand und entging im Libanon knapp einem Angriff.\\
 n\n\\n\nIn seinem Buch reflektiert der mehrfach ausgezeichnete Autor auch 
 persönliche Krisen und Selbstzweifel und erzählt von Menschen\, die er m
 it grosser Nähe und Empathie porträtierte.
LOCATION:Kulturhaus Obere Stube\, Oberstadt 7\, 8260 Stein am Rhein
DTSTART;TZID=Europe/Zurich:20260422T190000
DTEND;TZID=Europe/Zurich:20260422T200000
ORGANIZER:Jakob und Emma Windler-Stiftung Kultureinrichtungen
END:VEVENT
END:VCALENDAR
