BEGIN:VCALENDAR
VERSION:2.0
PRODID:-//Sabre//Sabre VObject 4.5.8//EN
CALSCALE:GREGORIAN
BEGIN:VEVENT
UID:sabre-vobject-56a3abd1-bf22-4c2f-92eb-354899a1f120
DTSTAMP:20260424T061241Z
SUMMARY:Saint City Orchestra – This Ain’t Quiet Tour
DESCRIPTION:Was hier aus den Boxen knallt\, ist ein rotzfrecher Mix aus Iri
 sh Punkrock und der ungeschönten Realität des Lebens - laut\, wild\, ehr
 lich und mit ordentlich Portion Ironie. Die Songs klingen wie durchzechte 
 Nächte mit besten Freunden\, wie Kneipentresen voller Geschichten\, wie S
 tadionrufe aus rauen Kehlen und wie der letzte Schluck vor dem Zusammenbru
 ch. Sie erzählen von verlorenen Träumen\, gebrochenen Herzen\, wütenden
  Mittelfingern und unbeugsamer Liebe - zur Familie\, zur Crew\, zum Verein
  und zum verdammten Leben selbst. "This ain't quiet" ist kein Album für d
 ie laylist im Fahrstuhl - es ist der Soundtrack für Nächte\, die man sic
 h tätowieren lassen will. Für Menschen mit Ecken\, Kanten und Haltung. F
 ür alle\, die lieber grölen als jammern. Saint City Orchestra ist zurüc
 k - und sie haben Durst. 
LOCATION:Grabenhalle St.Gallen\, Unterer Graben 17\, 9000 St.Gallen
DTSTART;TZID=Europe/Zurich:20260424T190000
DTEND;TZID=Europe/Zurich:20260424T190000
ORGANIZER:Grabenhalle
END:VEVENT
END:VCALENDAR
