BEGIN:VCALENDAR
VERSION:2.0
PRODID:-//Sabre//Sabre VObject 4.5.8//EN
CALSCALE:GREGORIAN
BEGIN:VEVENT
UID:sabre-vobject-38e06f55-38a5-49c9-a264-c1ddb4470f97
DTSTAMP:20260422T031709Z
SUMMARY:Geschichtenkarussell - Türkisch
DESCRIPTION:Für Kinder ab 3 Jahren.Weitere Termine:24. Juni 2026  
LOCATION:Stadtbibliothek Katharinen\, Katharinengasse 11\, 9000 St. Gallen
DTSTART;TZID=Europe/Zurich:20260422T150000
DTEND;TZID=Europe/Zurich:20260422T160000
ORGANIZER:Stadtbibliothek Katharinen
END:VEVENT
END:VCALENDAR
