BEGIN:VCALENDAR
VERSION:2.0
PRODID:-//Sabre//Sabre VObject 4.5.8//EN
CALSCALE:GREGORIAN
BEGIN:VEVENT
UID:sabre-vobject-39a318ab-f418-4570-a14b-f4cb4cd50c0c
DTSTAMP:20260424T060448Z
SUMMARY:Queer Treff
DESCRIPTION:Deine LGBTQIA+ Community. Wir betreiben das Clublokal "Badgasse
  8" und wollen für die gesamte LGBTQIA+ Community ein freier und safer Tr
 effpunkt sein.
LOCATION:wilsch - queer Winterthur\, Badgasse 8\, 8400 Winterthur
DTSTART;TZID=Europe/Zurich:20260424T190000
DTEND;TZID=Europe/Zurich:20260424T230000
ORGANIZER:
END:VEVENT
END:VCALENDAR
