BEGIN:VCALENDAR
VERSION:2.0
PRODID:-//Sabre//Sabre VObject 4.5.8//EN
CALSCALE:GREGORIAN
BEGIN:VEVENT
UID:sabre-vobject-219584f0-6109-4820-81e1-ec060b208d9f
DTSTAMP:20260425T004452Z
SUMMARY:Mini.Pride
DESCRIPTION:Im Rahmen des Super Saturday\, dem Festival der Vielfalt\, ents
 teht mit der\\nMini.Pride\, diversen Marktständen und offenen Fachgeschä
 ften ein lebendiger Raum für Sichtbarkeit\, Begegnung und Kultur. Wir fei
 ern Gemeinschaft\, Offenheit und Vielfalt und bauen Brücken.
LOCATION:Im Städtli\, Hauptgasse 12\, 9620 Lichtensteig
DTSTART;TZID=Europe/Zurich:20260425T110000
DTEND;TZID=Europe/Zurich:20260426T030000
ORGANIZER:Mini.Pride
END:VEVENT
END:VCALENDAR
