BEGIN:VCALENDAR
VERSION:2.0
PRODID:-//Sabre//Sabre VObject 4.5.8//EN
CALSCALE:GREGORIAN
BEGIN:VEVENT
UID:sabre-vobject-c02bfc42-ce98-4d40-bce4-89d946f7de37
DTSTAMP:20260425T141300Z
SUMMARY:Altstadtführung in Wil - Starke Wiler Frauen
DESCRIPTION:Auf einem Rundgang durch das historische Zentrum der Stadt Wil 
 erhalten Sie Einblicke in die Besonderheiten und Sehenswürdigkeiten der A
 nlage\, die vor mehr als 800 Jahren durch die Grafen von Toggenburg gegrü
 ndet wurde.\nTreffpunkt ist auf dem Hofplatz beim Eingang zum Hof (Marktga
 sse 88).
LOCATION:Hof zu Wil\, Marktgasse 88\, 9500 Wil SG
DTSTART;TZID=Europe/Zurich:20260425T140000
DTEND;TZID=Europe/Zurich:20260425T140000
ORGANIZER:
END:VEVENT
END:VCALENDAR
