BEGIN:VCALENDAR
VERSION:2.0
PRODID:-//Sabre//Sabre VObject 4.5.8//EN
CALSCALE:GREGORIAN
BEGIN:VEVENT
UID:sabre-vobject-5132e5cf-7f05-4e5e-9d96-0b42bcf009cf
DTSTAMP:20260421T145153Z
SUMMARY:Das Hohelied
DESCRIPTION:\n\n\nDas Hohelied nach Salomo\, fügt sich in Liebespoesie des
  östlichen Mittelmeerraumes ein. Dazu gehört der griechische Raum\, aber
  schon viel früher der ägyptische. Man hat seit dem 13. Jahrhundert vor 
 Christus Liebesgedichte ähnlich wie im Hohen Lied besungen\, was Metaphor
 ik anbelangt\, aber auch\, was den Dialog zwischen zwei Liebenden anbelang
 t. Der hier vorgetragene archaische\, poetische\, erotische Text – in ei
 ner grossen arabischen Erzählform - beruht auf einer deutschen Übersetzu
 ng aus dem Jahre 1990. Die Liebesgedichte sind in acht Gesänge aufgeteilt
  und werden vom Schauspieler textlich vorgetragen. Dauer: 90 Minuten.\\n\\
 n\n\n\n\n\nUrs Bosshardt – Schauspiel\nBeat Vögele – Harmonium\, Quer
 flöte\nYves Neuhaus – Nickelharp\, Viola d'Amore\n\n\n\n\n\n\n\n\n\nUrs
  Bosshardt lebte von 1990 bis 2000 in Winterthur. Er arbeitete u.a. im Som
 mertheater Winterthur\, im Theater Kanton Zürich und im Zimmertheater Ari
 ane. Bekannt wurde er. durch die Fernsehserie "Fertig Luschtig".\\n\\n\n\n
 \n\n\nAbendessen: Robi kocht für Sie ein Drei-Gang-Menu\, CHF 34.00\, 18:
 00 - 19:30 Uhr\n\n\n\n\n\\n\\nBitte reservieren:\nunter kultur@dimensione.
 ch\n\n\n
LOCATION:Dimensione\, Neustadtgasse 25\, 8400 Winterthur
DTSTART;TZID=Europe/Zurich:20260421T200000
DTEND;TZID=Europe/Zurich:20260421T200000
ORGANIZER:
END:VEVENT
END:VCALENDAR
