BEGIN:VCALENDAR
VERSION:2.0
PRODID:-//Sabre//Sabre VObject 4.5.8//EN
CALSCALE:GREGORIAN
BEGIN:VEVENT
UID:sabre-vobject-6c013fdb-a262-445a-9934-a9845b4d4109
DTSTAMP:20260422T090936Z
SUMMARY:wind.art saxophonquartett
DESCRIPTION:\n\n\nBereits seit einigen Jahren spielt sich das wind.art saxo
 phonquartett virtuos querbeet durch (beinahe) alle musikalischen Epochen u
 nd Stilrichtungen: von Klassik über Jazz\, Tango\, Latin\, Funk bis Klezm
 er. Freue dich auf vielfältige\, raffiniert arrangierte musikalische Leck
 erbissen von Isaac Albéniz\, Astor Piazzolla\, Chick Corea\, Paquito d'Ri
 vera\, Charlie Parker\, Charles Mingus\, Joe Zawinul usw.\\n\\n\n\n\n\n\nS
 ylvia Yersin - Sopran- und Altsax\nMartin Stolz - Sopran- und Altsax\nGeor
 ges Peterelli - Tenorsax\nMarino Bundi - Baritonsax\n\n\n\n\n\n\n\nAbendes
 sen: Robi kocht für Sie ein Drei-Gang-Menu\, CHF 34.00\, 18:30 - 19:00 Uh
 r\n\n\n\n\n\\nBitte reservieren:\nunter kultur@dimensione.ch\n\n\n
LOCATION:Dimensione\, Neustadtgasse 25\, 8400 Winterthur
DTSTART;TZID=Europe/Zurich:20260416T200000
DTEND;TZID=Europe/Zurich:20260416T200000
ORGANIZER:
END:VEVENT
END:VCALENDAR
