BEGIN:VCALENDAR
VERSION:2.0
PRODID:-//Sabre//Sabre VObject 4.5.8//EN
CALSCALE:GREGORIAN
BEGIN:VEVENT
UID:sabre-vobject-fb4fd447-4c87-49fe-bda8-d09f6642ecca
DTSTAMP:20260421T081943Z
SUMMARY:Tanz zu dir - freies Tanzen in Frauenfeld
DESCRIPTION:Unter der Leitung von Sophie Fritsche wird jeweils an zwei Dien
 stagabenden pro Monat zu verschiedenen Musikstilen frei getanzt.\nUm den A
 lltag hinter sich zu lassen und ganz bei sich und im gegenwärtigen Moment
  anzukommen\, beginnt die Stunde mit angeleiteten Achtsamkeits- und Körpe
 rwahrnehmungsübungen. Mit der anschliessend einsetzenden Musik kann dann 
 den ganz eigenen Bewegungsimpulsen gefolgt und frei und intuitiv getanzt w
 erden.\nZum Schluss wartet eine Tasse Tee oder ein Glas Wasser auf die Tei
 lnehmenden. Alle Interessierten sind herzlich willkommen\, unabhängig von
  Alter und Tanzerfahrung. \noffener Bewegungsraum\\nStallung Süd\, Einga
 ng 4B\\n\\nQuelle:\\nthurgaukultur.ch - das Kulturportal für den Thurgau\
 , mit Terminen\, Themen &amp\; Menschen\, die zu reden geben.
LOCATION:Stadtkaserne Frauenfeld\, Bahnhofplatz 78\, 8500 Frauenfeld
DTSTART;TZID=Europe/Zurich:20260616T180000
DTEND;TZID=Europe/Zurich:20260616T190000
ORGANIZER:
END:VEVENT
END:VCALENDAR
