BEGIN:VCALENDAR
VERSION:2.0
PRODID:-//Sabre//Sabre VObject 4.5.8//EN
CALSCALE:GREGORIAN
BEGIN:VEVENT
UID:sabre-vobject-e9e21328-5bac-4ddb-883e-dec8537570c5
DTSTAMP:20260420T062113Z
SUMMARY:Wie suche ich im Katalog?
DESCRIPTION:Alle Bücher\, CDs\, DVDs\, Zeitschriften und E-Books der Bibli
 othek Hauptpost sind im Katalog des St.Galler Bibliotheksnetzes verzeichne
 t. In der Einführung lernen Interessierte den Katalog kennen und erfahren
 \, wie in diesem gesucht wird und wie gefundene Medien ausleihen können.
  \nDurchgeführt vom Ausleihteam der Kantonsbibliothek Vadiana\nTreffpunk
 t: Leserad\, Bibliothek Hauptpost
LOCATION:Bibliothek Hauptpost St.Gallen\, Gutenbergstrasse 2\, 9000 St.Gall
 en
DTSTART;TZID=Europe/Zurich:20260421T170000
DTEND;TZID=Europe/Zurich:20260421T180000
ORGANIZER:Bibliothek Hauptpost
END:VEVENT
END:VCALENDAR
