BEGIN:VCALENDAR
VERSION:2.0
PRODID:-//Sabre//Sabre VObject 4.5.8//EN
CALSCALE:GREGORIAN
BEGIN:VEVENT
UID:sabre-vobject-eb36c57c-3b28-4e82-8ae5-2cc70f42b101
DTSTAMP:20260422T225409Z
SUMMARY:Musig im Hopp mit Tightrope
DESCRIPTION:Im November 2013 gründeten Jürg Hediger (Gitarre)\, Heinz Ste
 iger (Bass)\, Bruno Gstöhl (Schlagzeug) und Marco Insinna (Gitarre und Ge
 sang) die Band Tightrope. Nach einem Bluesworkshop in der Toskana kam die 
 Idee auf\, eine Band zu gründen.\nDie Band entschied sich für Blues-Rock
 \, wollte aber kein puristischer Blues sein. Insinna: „Für uns vier war
  jedoch klar\, dass es kein puristischer Blues sein sollte\, denn in jedem
  von uns brannte auch seit Kindheit an ein Rockerherz.“ Mit der Zeit kam
 en funkigere und souligere Bluesstücke hinzu.\nTightrope’s Repertoire u
 mfasst Songs von Stevie Ray Vaughan\, Joe Bonamassa und Gary Moore. Der Ba
 ndname „Tightrope“ stammt von einem Stevie Ray Vaughan Songtitel. „D
 ieser Name sei auch eine gute Metapher für die Philosophie der Band: näm
 lich den Balanceakt als ‚Nischen-Coverband‘ zwischen bekannteren und a
 uch unbekannteren Bluesrock-Songs zu schaffen\,“ so Insinna..
LOCATION:Hopp\, Bahnhofstrasse 19\, 9434 Au
DTSTART;TZID=Europe/Zurich:20260422T193000
DTEND;TZID=Europe/Zurich:20260422T220000
ORGANIZER:Blues Club Bodensee
END:VEVENT
END:VCALENDAR
