BEGIN:VCALENDAR
VERSION:2.0
PRODID:-//Sabre//Sabre VObject 4.5.8//EN
CALSCALE:GREGORIAN
BEGIN:VEVENT
UID:sabre-vobject-de7f3f51-79e9-4eb4-bc44-5e0819b28088
DTSTAMP:20260422T090823Z
SUMMARY:Comedy Ensemble Glatti Cheibe - Buuchwehtour
DESCRIPTION:Für Lacher\, Stimmung und eine ordentliche Portion «Bauchweh
 » sorgen das beliebte Ostschweizer Comedy Duo Messer&amp\;Gabel\, das Com
 edy-Chamäleon Sepp Manser\, das Multitalent Nico Arn und der Senkrechtsta
 rter Sascha Schnellmann.\nWer es vielseitig\, geradeheraus und sauwitzig m
 ag\, der ist bei Glatti Cheibe - Buuchweh-Tour genau richtig. \nFrech\, h
 iesig und echt.
LOCATION:Kinotheater Madlen\, Auerstrasse 18\, 9435 Heerbrugg
DTSTART;TZID=Europe/Zurich:20261209T200000
DTEND;TZID=Europe/Zurich:20261209T223000
ORGANIZER:Glatti Cheibe
END:VEVENT
END:VCALENDAR
