BEGIN:VCALENDAR
VERSION:2.0
PRODID:-//Sabre//Sabre VObject 4.5.8//EN
CALSCALE:GREGORIAN
BEGIN:VEVENT
UID:sabre-vobject-72d12b63-a72d-4186-8859-e19f96909bf4
DTSTAMP:20260420T100259Z
SUMMARY:Comedy Ensemble Glatti Cheibe - Buuchwehtour
DESCRIPTION:Für Lacher\, Stimmung und eine ordentliche Portion «Bauchweh
 » sorgen das beliebte Ostschweizer Comedy Duo Messer&amp\;Gabel\, das Com
 edy-Chamäleon Sepp Manser\, das Multitalent Nico Arn und der Senkrechtsta
 rter Sascha Schnellmann.\nWer es vielseitig\, geradeheraus und sauwitzig m
 ag\, der ist bei Glatti Cheibe - Buuchweh-Tour genau richtig. \nFrech\, h
 iesig und echt.
LOCATION:Zeltainer Kleintheater\, Früeweidstrasse 1061\, 9657 Unterwasser 
 SG
DTSTART;TZID=Europe/Zurich:20260827T200000
DTEND;TZID=Europe/Zurich:20260827T223000
ORGANIZER:Glatti Cheibe
END:VEVENT
END:VCALENDAR
