BEGIN:VCALENDAR
VERSION:2.0
PRODID:-//Sabre//Sabre VObject 4.5.8//EN
CALSCALE:GREGORIAN
BEGIN:VEVENT
UID:sabre-vobject-86322f12-d6ea-491e-b8c2-0b44d6de5fce
DTSTAMP:20260422T090649Z
SUMMARY:Comedy Ensemble Glatti Cheibe - Buuchwehtour
DESCRIPTION:Für Lacher\, Stimmung und eine ordentliche Portion «Bauchweh
 » sorgen das beliebte Ostschweizer Comedy Duo Messer&amp\;Gabel\, das Com
 edy-Chamäleon Sepp Manser\, das Multitalent Nico Arn und der Senkrechtsta
 rter Sascha Schnellmann.\nWer es vielseitig\, geradeheraus und sauwitzig m
 ag\, der ist bei Glatti Cheibe - Buuchweh-Tour genau richtig. \nFrech\, h
 iesig und echt.
LOCATION:Kulturzentrum Presswerk\, Hamelstrasse 15\, 9320 Arbon
DTSTART;TZID=Europe/Zurich:20260429T200000
DTEND;TZID=Europe/Zurich:20260429T223000
ORGANIZER:Glatti Cheibe
END:VEVENT
END:VCALENDAR
