BEGIN:VCALENDAR
VERSION:2.0
PRODID:-//Sabre//Sabre VObject 4.5.8//EN
CALSCALE:GREGORIAN
BEGIN:VEVENT
UID:sabre-vobject-556ad591-9659-4d4f-9171-04b4cd108a15
DTSTAMP:20260422T090305Z
SUMMARY:Comedy Ensemble Glatti Cheibe - Buuchwehtour
DESCRIPTION:Für Lacher\, Stimmung und eine ordentliche Portion «Bauchweh
 » sorgen das beliebte Ostschweizer Comedy Duo Messer&amp\;Gabel\, das Com
 edy-Chamäleon Sepp Manser\, das Multitalent Nico Arn und der Senkrechtsta
 rter Sascha Schnellmann.\nWer es vielseitig\, geradeheraus und sauwitzig m
 ag\, der ist bei Glatti Cheibe - Buuchweh-Tour genau richtig. \nFrech\, h
 iesig und echt.
LOCATION:Alte Stuhlfabrik\, Kasernenstrasse 39a\, 9100 Herisau
DTSTART;TZID=Europe/Zurich:20260416T200000
DTEND;TZID=Europe/Zurich:20260416T223000
ORGANIZER:Glatti Cheibe
END:VEVENT
END:VCALENDAR
