BEGIN:VCALENDAR
VERSION:2.0
PRODID:-//Sabre//Sabre VObject 4.5.8//EN
CALSCALE:GREGORIAN
BEGIN:VEVENT
UID:sabre-vobject-04551724-93c6-40e1-9cb3-edc996908874
DTSTAMP:20260424T121402Z
SUMMARY:Pilgergottesdienst zur Saisoneröffnung
DESCRIPTION:Ökumenisch offene Gestaltung durch Rosmarie Wiesli\, Josef Sch
 önauer und Bruno Fluder.  Musik vom Chor «The Tunes». Anschliessend Ap
 éro im Hofkeller.\\n\\n
LOCATION:Schutzengelkapelle am Klosterplatz\, am Klosterplatz\, 9000 St. Ga
 llen
DTSTART;TZID=Europe/Zurich:20260424T190000
DTEND;TZID=Europe/Zurich:20260424T213000
ORGANIZER:Pilgerherberge Sankt Gallen
END:VEVENT
END:VCALENDAR
