BEGIN:VCALENDAR
VERSION:2.0
PRODID:-//Sabre//Sabre VObject 4.5.8//EN
CALSCALE:GREGORIAN
BEGIN:VEVENT
UID:sabre-vobject-f74ca2e4-39fc-458f-aefd-8793e4b8ce48
DTSTAMP:20260424T122957Z
SUMMARY:Offener Bar-Abend April
DESCRIPTION:Der Verein Kulturrausch lädt zum offenen Bar-Abend im Bild-Rau
 schen-Studio in Bürglen ein. An diesem Abend servieren wir wieder unsere 
 feinen\, handgemachten Flammkuchen oder ein mediterranes Plättli. \nAb 1
 9:00 Uhr geöffnet. Das Publikum geniesst den Feierabend in heimeliger Atm
 osphäre\, trifft nette Menschen und geniesst einen feinen Snack. Ob allei
 ne\, mit Freunden oder mit Partner:in – hier findet jede:r Platz.\\n\\nQ
 uelle:\\nthurgaukultur.ch - das Kulturportal für den Thurgau\, mit Termin
 en\, Themen &amp\; Menschen\, die zu reden geben.
LOCATION:Bild-Rauschen-Studio\, Industriestrasse 6a\, 8575 Bürglen TG
DTSTART;TZID=Europe/Zurich:20260424T190000
DTEND;TZID=Europe/Zurich:20260424T190000
ORGANIZER:Verein Kulturrausch
END:VEVENT
END:VCALENDAR
