BEGIN:VCALENDAR
VERSION:2.0
PRODID:-//Sabre//Sabre VObject 4.5.8//EN
CALSCALE:GREGORIAN
BEGIN:VEVENT
UID:sabre-vobject-a96ce25c-b7dc-4597-955c-bc0adfeb69f4
DTSTAMP:20260423T052000Z
SUMMARY:Skino im Kunstmuseum
DESCRIPTION:The Man Without a World\, einer der ungewöhnlichsten\, kreativ
 sten und beeindruckendsten Filme der amerikanischen Indie-Geschichte\, wir
 d dem legendären sowjetischen Regisseur Yevgeny Antinov zugeschrieben –
  aber das ist bei weitem nicht die ganze Wahrheit. Antinov ist nichts ande
 res als eine von Eleanor Antin geschaffene Figur.\nIn ihren performativen 
 Kunstwerken erforscht und interpretiert Antin Geschichte neu\, indem sie u
 nter dem Deckmantel der Krankenschwester Eleanor Nightingale den Krimkrieg
  darstellt oder als berühmte schwarze Ballerina Eleanora Antinova Rassism
 us aufs Korn nimmt. Dieser erste Spielfilm der visionären Filmemacherin v
 ereint eine beeindruckende Besetzung und Crew\, darunter Pier Marton\, Chr
 istine Berry und Anna Henriques.\nStummfilm mit englischen Zwischentiteln.
LOCATION:Kunstmuseum Liechtenstein mit Hilti Art Foundation\, Städtle 32\,
  9490 Vaduz
DTSTART;TZID=Europe/Zurich:20260423T180000
DTEND;TZID=Europe/Zurich:20260423T200000
ORGANIZER:Kunstmuseum Liechtenstein
END:VEVENT
END:VCALENDAR
