BEGIN:VCALENDAR
VERSION:2.0
PRODID:-//Sabre//Sabre VObject 4.5.8//EN
CALSCALE:GREGORIAN
BEGIN:VEVENT
UID:sabre-vobject-c186756b-79db-40cd-b1ae-3a33aedcf725
DTSTAMP:20260422T034953Z
SUMMARY:Take Away | Eleanor Antin. Eine Retrospektive
DESCRIPTION:Hinaus aus dem Alltag und hinein in die Kunst: Das Take Away is
 t die etwas andere Mittagspause in Vaduz. In 30 Minuten erhalten die Besuc
 henden Einblick in eine aktuelle Ausstellung und erfahren Interessantes zu
  Künstler:innen und Werken. Jede dieser Kurzführungen widmet sich einem 
 anderen Thema.
LOCATION:Kunstmuseum Liechtenstein mit Hilti Art Foundation\, Städtle 32\,
  9490 Vaduz
DTSTART;TZID=Europe/Zurich:20260422T123000
DTEND;TZID=Europe/Zurich:20260422T130000
ORGANIZER:Kunstmuseum Liechtenstein
END:VEVENT
END:VCALENDAR
