BEGIN:VCALENDAR
VERSION:2.0
PRODID:-//Sabre//Sabre VObject 4.5.8//EN
CALSCALE:GREGORIAN
BEGIN:VEVENT
UID:sabre-vobject-ff97dd5a-2709-4606-b13a-c4c1c025e082
DTSTAMP:20260422T031622Z
SUMMARY:Mittwochs auf der Postpost
DESCRIPTION:«Le POINT JAUNE est un musée que nous avons inventé et dont 
 le besoin se faisait généralement sentir. » Was es damit auf sich haben
  könnte und was das für die zeitgenössische Kunst bedeutet\, diskutiere
 n Interessierte jeden Mittwoch ab 18:00 in geselliger Runde auf der Postpo
 st. \n \n\\nEs wird empfohlen\, beim Mitbringen epikureischer Beiträge 
 an die weiteren ev. Anwesenden zu denken. Sich vorgängig mit dem jeweilig
 en Datum gemäss pataphysischem Kalender zu befassen\, ist für eingehende
 res Verständnis des aktuellen Diskurses ratsam\, jedoch in keinster Weise
  Voraussetzung. \n \n\\nNach Belieben werden Erkenntnisse des Abends im 
 Wochenblatt N° 1470 notiert. Diese postpostistische Kreation hängt dann 
 bis zum folgenden Mittwoch im Schalterraum aus. Näheres dazu hier.
LOCATION:Point Jaune Museum\, Linsebühlstrasse 77\, 9000 St. Gallen
DTSTART;TZID=Europe/Zurich:20260422T180000
DTEND;TZID=Europe/Zurich:20260422T180000
ORGANIZER:POINT JAUNE museum
END:VEVENT
END:VCALENDAR
